0.500000
0.000000
0.000000
-0.500000
2881823.250000
512630.750000
