0.500000
0.000000
0.000000
-0.500000
2879165.750000
512511.250000
