0.500000
0.000000
0.000000
-0.500000
2873847.250000
512294.750000
