0.500000
0.000000
0.000000
-0.500000
2863004.750000
517142.250000
