0.500000
0.000000
0.000000
-0.500000
2865645.250000
517257.750000
