0.500000
0.000000
0.000000
-0.500000
2883914.250000
523320.250000
