0.500000
0.000000
0.000000
-0.500000
2875981.750000
522984.250000
