0.500000
0.000000
0.000000
-0.500000
2860115.750000
522320.250000
