0.500000
0.000000
0.000000
-0.500000
2862502.250000
527661.250000
