0.500000
0.000000
0.000000
-0.500000
2865134.250000
527752.750000
