0.500000
0.000000
0.000000
-0.500000
2878348.750000
528205.250000
