0.500000
0.000000
0.000000
-0.500000
2889623.750000
510343.250000
