0.500000
0.000000
0.000000
-0.500000
2892372.750000
507830.750000
