0.500000
0.000000
0.000000
-0.500000
2886627.250000
518149.250000
