0.500000
0.000000
0.000000
-0.500000
2891676.250000
521080.250000
