0.500000
0.000000
0.000000
-0.500000
2885995.750000
531208.750000
