0.500000
0.000000
0.000000
-0.500000
2888588.750000
531432.750000
