0.500000
0.000000
0.000000
-0.500000
2824284.750000
476059.250000
