0.500000
0.000000
0.000000
-0.500000
2827027.750000
473540.750000
