0.500000
0.000000
0.000000
-0.500000
2826932.750000
476186.250000
