0.500000
0.000000
0.000000
-0.500000
2826844.750000
478831.750000
