0.500000
0.000000
0.000000
-0.500000
2826756.250000
481477.250000
