0.500000
0.000000
0.000000
-0.500000
2823852.750000
491887.250000
