0.500000
0.000000
0.000000
-0.500000
2823882.250000
489255.250000
