0.500000
0.000000
0.000000
-0.500000
2850948.250000
469447.250000
