0.500000
0.000000
0.000000
-0.500000
2832232.250000
476471.250000
