0.500000
0.000000
0.000000
-0.500000
2837527.250000
476732.750000
