0.500000
0.000000
0.000000
-0.500000
2845487.750000
477121.250000
