0.500000
0.000000
0.000000
-0.500000
2853415.250000
477513.750000
