0.500000
0.000000
0.000000
-0.500000
2856055.750000
477656.750000
