0.500000
0.000000
0.000000
-0.500000
2855979.750000
480307.250000
