0.500000
0.000000
0.000000
-0.500000
2858625.250000
480437.750000
