0.500000
0.000000
0.000000
-0.500000
2858550.250000
483075.750000
