0.500000
0.000000
0.000000
-0.500000
2840107.250000
479523.750000
