0.500000
0.000000
0.000000
-0.500000
2842753.250000
479658.250000
