0.500000
0.000000
0.000000
-0.500000
2829250.250000
486913.250000
