0.500000
0.000000
0.000000
-0.500000
2834563.750000
487199.750000
