0.500000
0.000000
0.000000
-0.500000
2837210.750000
487340.250000
