0.500000
0.000000
0.000000
-0.500000
2842502.250000
487619.250000
