0.500000
0.000000
0.000000
-0.500000
2845228.750000
485107.750000
