0.500000
0.000000
0.000000
-0.500000
2855556.250000
493560.250000
