0.500000
0.000000
0.000000
-0.500000
2855644.250000
490909.250000
