0.500000
0.000000
0.000000
-0.500000
2850279.750000
493312.250000
