0.500000
0.000000
0.000000
-0.500000
2844988.750000
493057.250000
