0.500000
0.000000
0.000000
-0.500000
2837117.750000
489992.250000
