0.500000
0.000000
0.000000
-0.500000
2834188.250000
497344.250000
