0.500000
0.000000
0.000000
-0.500000
2847538.750000
495831.750000
