0.500000
0.000000
0.000000
-0.500000
2850176.750000
495957.250000
