0.500000
0.000000
0.000000
-0.500000
2882892.750000
470383.750000
