0.500000
0.000000
0.000000
-0.500000
2885447.250000
473218.250000
